BEGIN:VCALENDAR
VERSION:2.0
PRODID:-//IAEC University - ECPv6.15.20//NONSGML v1.0//EN
CALSCALE:GREGORIAN
METHOD:PUBLISH
X-ORIGINAL-URL:https://iaec-university.tg
X-WR-CALDESC:Events for IAEC University
REFRESH-INTERVAL;VALUE=DURATION:PT1H
X-Robots-Tag:noindex
X-PUBLISHED-TTL:PT1H
BEGIN:VTIMEZONE
TZID:Africa/Lagos
BEGIN:STANDARD
TZOFFSETFROM:+0100
TZOFFSETTO:+0100
TZNAME:WAT
DTSTART:20190101T000000
END:STANDARD
END:VTIMEZONE
BEGIN:VEVENT
DTSTART;VALUE=DATE:20200307
DTEND;VALUE=DATE:20200308
DTSTAMP:20260424T124448
CREATED:20200307T102836Z
LAST-MODIFIED:20200307T105508Z
UID:3110-1583539200-1583625599@iaec-university.tg
SUMMARY:ACADEMIC CALENDAR FOR 2019/2020 SESSION SPRING SEMESTER
DESCRIPTION:16TH MARCH RESUMPTION OF NEW INTAKE (INTENSIVE FRENCH CLASSES BEGINS) \n \n 
URL:https://iaec-university.tg/event/academic-calendar-for-2019-2020-session-spring-semester/
CATEGORIES:Event
ATTACH;FMTTYPE=image/jpeg:https://iaec-university.tg/wp-content/uploads/2020/03/WhatsApp-Image-2020-03-07-at-2.09.11-AM.jpeg
END:VEVENT
END:VCALENDAR