BEGIN:VCALENDAR
VERSION:2.0
PRODID:-//IAEC University - ECPv6.15.20//NONSGML v1.0//EN
CALSCALE:GREGORIAN
METHOD:PUBLISH
X-WR-CALNAME:IAEC University
X-ORIGINAL-URL:https://iaec-university.tg
X-WR-CALDESC:Events for IAEC University
REFRESH-INTERVAL;VALUE=DURATION:PT1H
X-Robots-Tag:noindex
X-PUBLISHED-TTL:PT1H
BEGIN:VTIMEZONE
TZID:Africa/Lagos
BEGIN:STANDARD
TZOFFSETFROM:+0100
TZOFFSETTO:+0100
TZNAME:WAT
DTSTART:20190101T000000
END:STANDARD
END:VTIMEZONE
BEGIN:VEVENT
DTSTART;VALUE=DATE:20200214
DTEND;VALUE=DATE:20200215
DTSTAMP:20260424T100612
CREATED:20190920T085650Z
LAST-MODIFIED:20190920T092212Z
UID:2571-1581638400-1581724799@iaec-university.tg
SUMMARY:14th\, February Valentine’s Day
DESCRIPTION:VALENTINE’S DAY \n  \nValentine’s Day\, also called Saint Valentine’s Day or the Feast of Saint Valentine\, is celebrated annually on February 14\, will also be observed annually by the school.
URL:https://iaec-university.tg/event/2571/
CATEGORIES:Event
ATTACH;FMTTYPE=image/jpeg:https://iaec-university.tg/wp-content/uploads/2019/09/59C6CC1A-3A93-464D-95E9-9F42A47FFA24.jpeg
END:VEVENT
END:VCALENDAR