BEGIN:VCALENDAR
VERSION:2.0
PRODID:-//IAEC University - ECPv6.15.20//NONSGML v1.0//EN
CALSCALE:GREGORIAN
METHOD:PUBLISH
X-ORIGINAL-URL:https://iaec-university.tg
X-WR-CALDESC:Events for IAEC University
REFRESH-INTERVAL;VALUE=DURATION:PT1H
X-Robots-Tag:noindex
X-PUBLISHED-TTL:PT1H
BEGIN:VTIMEZONE
TZID:Africa/Lagos
BEGIN:STANDARD
TZOFFSETFROM:+0100
TZOFFSETTO:+0100
TZNAME:WAT
DTSTART:20190101T000000
END:STANDARD
END:VTIMEZONE
BEGIN:VEVENT
DTSTART;VALUE=DATE:20200127
DTEND;VALUE=DATE:20200201
DTSTAMP:20260424T112037
CREATED:20190920T083205Z
LAST-MODIFIED:20190920T092444Z
UID:2562-1580083200-1580515199@iaec-university.tg
SUMMARY:STUDENT’S WEEK
DESCRIPTION:STUDENT’S WEEK 2020 \n  \nDuring this week different academic\, intellectual and sporting activities with lot of entertainment Is part of the student’s week. \nStudent’s week is another initiative taken by IAEC to provide a platform to her students to explore\, discover\, and learn and develop communal bond in a Social gathering\, which is set to commence on the 27th-31st of January by the management of the school\, all students should endeavor to partake in this event.
URL:https://iaec-university.tg/event/students-week/
CATEGORIES:Event
ATTACH;FMTTYPE=image/jpeg:https://iaec-university.tg/wp-content/uploads/2019/08/Black-College-Students-2014.jpg
END:VEVENT
END:VCALENDAR