BEGIN:VCALENDAR
VERSION:2.0
PRODID:-//IAEC University - ECPv6.15.20//NONSGML v1.0//EN
CALSCALE:GREGORIAN
METHOD:PUBLISH
X-ORIGINAL-URL:https://iaec-university.tg
X-WR-CALDESC:Events for IAEC University
REFRESH-INTERVAL;VALUE=DURATION:PT1H
X-Robots-Tag:noindex
X-PUBLISHED-TTL:PT1H
BEGIN:VTIMEZONE
TZID:Africa/Lagos
BEGIN:STANDARD
TZOFFSETFROM:+0100
TZOFFSETTO:+0100
TZNAME:WAT
DTSTART:20180101T000000
END:STANDARD
END:VTIMEZONE
BEGIN:VEVENT
DTSTART;VALUE=DATE:20190930
DTEND;VALUE=DATE:20191012
DTSTAMP:20260424T165114
CREATED:20190919T141228Z
LAST-MODIFIED:20190919T141228Z
UID:2535-1569801600-1570838399@iaec-university.tg
SUMMARY:School Resumption\, September 30
DESCRIPTION:ACADEMIC RESUMPTION FOR 2019/2020 FALL SEMESTER \nAll New students resumes on the 30th of September to start Two Weeks Intensive French Classes. \n \nThe class is mandatory to all New student irrespective of  the level\, the french class Commence from September 30th to 11th Of October and will be strictly Monitored by the management attendance will be taken at end of each class
URL:https://iaec-university.tg/event/school-resumption-september-30/
LOCATION:Iaec university\, Lome
CATEGORIES:Event
ATTACH;FMTTYPE=image/jpeg:https://iaec-university.tg/wp-content/uploads/2019/09/8290535A-6A6B-48EE-9234-AC1E4C327D04.jpeg
END:VEVENT
END:VCALENDAR