BEGIN:VCALENDAR
VERSION:2.0
PRODID:-//IAEC University - ECPv6.15.20//NONSGML v1.0//EN
CALSCALE:GREGORIAN
METHOD:PUBLISH
X-ORIGINAL-URL:https://iaec-university.tg
X-WR-CALDESC:Events for IAEC University
REFRESH-INTERVAL;VALUE=DURATION:PT1H
X-Robots-Tag:noindex
X-PUBLISHED-TTL:PT1H
BEGIN:VTIMEZONE
TZID:Africa/Lagos
BEGIN:STANDARD
TZOFFSETFROM:+0100
TZOFFSETTO:+0100
TZNAME:WAT
DTSTART:20180101T000000
END:STANDARD
END:VTIMEZONE
BEGIN:VEVENT
DTSTART;VALUE=DATE:20191213
DTEND;VALUE=DATE:20191214
DTSTAMP:20260424T124042
CREATED:20190920T092909Z
LAST-MODIFIED:20190920T093340Z
UID:2556-1576195200-1576281599@iaec-university.tg
SUMMARY:13th December Christmas Carol Night
DESCRIPTION:CHRISTMAS CAROL NIGHT  \n \n\nA Christmas carol (also called a noël\, from the French word meaning “Christmas”) is a carol (song or hymn) whose lyrics are on the theme of Christmas\, and which is traditionally sung on Christmas itself or during the surrounding holiday season. Christmas carols may be regarded as a subset of the broader category oF Christmas songs\, which will be observed by the school on the 13th of December\, 2019.
URL:https://iaec-university.tg/event/13th-december-christmas-carol-night/
CATEGORIES:Event
ATTACH;FMTTYPE=image/jpeg:https://iaec-university.tg/wp-content/uploads/2019/09/E3486704-F95B-45E5-A0D0-711922EE1981.jpeg
END:VEVENT
END:VCALENDAR